Workbook

Sheet Sheet1
A1: 附件2：云南省2023年度公路施工企业信用评价参评单位公示表
A2: 序号 | B2: 从业单位名称 | C2: 统一社会信用代码 | D2: 项目及标段名称 | E2: 公路等级
A3: 1 | B3: 北京路桥方舟交通科技发展有限公司 | C3: =_xlfn.XLOOKUP(B3,Sheet5!$A:$A,Sheet5!$B:$B,0,0,1) -> 91110109757717548G | D3: 大关至永善高速公路工程-大永高速交安标 | E3: 二级及二级以上
A4: =MAX($A$3:A3)+1 -> 2 | B4: 北京市政路桥股份有限公司 | C4: =_xlfn.XLOOKUP(B4,Sheet5!$A:$A,Sheet5!$B:$B,0,0,1) -> 91110000101126390P | D4: 国道G219线云南龙陵（黄草坝）至龙镇桥段改扩建工程-国道G219龙陵（黄草坝）至龙镇桥段工程土建施工SGC标段 | E4: 二级及二级以上
D5: 思茅区思茅港镇乡镇通三级公路项目-思茅区思茅港镇乡镇通三级公路项目设计施工总承包 | E5: 其他等级
A6: =MAX($A$3:A5)+1 -> 3 | B6: 朝阳建设集团有限公司 | C6: =_xlfn.XLOOKUP(B6,Sheet5!$A:$A,Sheet5!$B:$B,0,0,1) -> 91120116123209920B | D6: 弥勒至楚雄高速公路弥勒至玉溪段-G8012弥勒至楚雄高速公路弥勒至玉溪段工程第二合同段6工区 | E6: 二级及二级以上
A7: =MAX($A$3:A6)+1 -> 4 | B7: 德通建设集团有限公司 | C7: =_xlfn.XLOOKUP(B7,Sheet5!$A:$A,Sheet5!$B:$B,0,0,1) -> 91610800786964863X | D7: 弥勒至楚雄高速公路弥勒至玉溪段-G8012弥勒至楚雄高速公路弥勒至玉溪段工程第二合同段1工区 | E7: 二级及二级以上
A8: =MAX($A$3:A7)+1 -> 5 | B8: 福建美丽生态建设集团有限公司 | C8: =_xlfn.XLOOKUP(B8,Sheet5!$A:$A,Sheet5!$B:$B,0,0,1) -> 91350128746379598E | D8: 瑞丽至孟连高速公路-第二总承包部第八项目部（专业分包） | E8: 二级及二级以上
A9: =MAX($A$3:A8)+1 -> 6 | B9: 福建省海坛建设工程有限公司 | C9: =_xlfn.XLOOKUP(B9,Sheet5!$A:$A,Sheet5!$B:$B,0,0,1) -> 91350128777527303N | D9: 永德（链子桥）至耿马（勐简）高速公路-中国十九冶永勐高速二总包一分部、云南建投永勐高速二分部（链子桥隧道、睡佛山隧道） | E9: 二级及二级以上
D10: 弥勒至楚雄高速公路弥勒至玉溪段-G8012弥勒至楚雄高速公路弥勒至玉溪段工程第二合同段1二级及二级以上工区 | E10: 二级及二级以上
D11: 瑞丽至孟连高速公路-第一总承包部第六项目部（专业分包） | E11: 二级及二级以上
A12: =MAX($A$3:A11)+1 -> 7 | B12: 福建省交建集团工程有限公司 | C12: =_xlfn.XLOOKUP(B12,Sheet5!$A:$A,Sheet5!$B:$B,0,0,1) -> 91350200154982721M | D12: 瑞丽至孟连高速公路-第二总承包部第九项目部（专业分包） | E12: 二级及二级以上
A13: =MAX($A$3:A12)+1 -> 8 | B13: 广西交建工程建设集团有限公司 | C13: =_xlfn.XLOOKUP(B13,Sheet5!$A:$A,Sheet5!$B:$B,0,0,1) -> 91450000742076899B | D13: 保山市昌宁至保山高速公路-云南省昌宁至保山高速公路土建№1合同段(专业承建) | E13: 二级及二级以上
A14: =MAX($A$3:A13)+1 -> 9 | B14: 广西交科集团有限公司 | C14: =_xlfn.XLOOKUP(B14,Sheet5!$A:$A,Sheet5!$B:$B,0,0,1) -> 9145000049850597XR | D14: 保山市昌宁至保山高速公路-云南省昌宁至保山高速公路机电工程施工总承包1标 | E14: 二级及二级以上
A15: =MAX($A$3:A14)+1 -> 10 | B15: 广西路桥工程集团有限公司 | C15: =_xlfn.XLOOKUP(B15,Sheet5!$A:$A,Sheet5!$B:$B,0,0,1) -> 91450000198227242F | D15: 保山市昌宁至保山高速公路-云南省昌宁至保山高速公路土建№1合同段 | E15: 二级及二级以上
D16: 保山市昌宁至保山高速公路-云南省昌宁至保山高速公路土建№2合同段 | E16: 二级及二级以上
A17: =MAX($A$3:A16)+1 -> 11 | B17: 贵州建工集团有限公司 | C17: =_xlfn.XLOOKUP(B17,Sheet5!$A:$A,Sheet5!$B:$B,0,0,1) -> 91520000214412123G | D17: 迪庆州香格里拉市至维西（益松至仓觉段）二级公路-迪庆州香格里拉至维西（益松至仓觉段）二级公路施工总承包第一合同段 | E17: 二级及二级以上
D18: 澜沧江西岸公路一期工程（叶枝至中路段）-澜沧江西岸公路一期工程（叶枝至中路段）施工总承包 | E18: 二级及二级以上
A19: =MAX($A$3:A18)+1 -> 12 | B19: 贵州省公路工程集团有限公司 | C19: =_xlfn.XLOOKUP(B19,Sheet5!$A:$A,Sheet5!$B:$B,0,0,1) -> 91520000214415201K | D19: 会泽至巧家高速公路-第二施工总承包 | E19: 二级及二级以上
D20: 大理至南涧高速公路-土建2标 | E20: 二级及二级以上
A21: =MAX($A$3:A20)+1 -> 13 | B21: 海南中交高速公路投资建设有限公司 | C21: =_xlfn.XLOOKUP(B21,Sheet5!$A:$A,Sheet5!$B:$B,0,0,1) -> 91469026589258708K | D21: G7611都匀至香格里拉高速公路守望（滇黔界）至红山（滇川界）段-都香高速公路守望至红山段C2项目经理部 | E21: 二级及二级以上
D22: G7611都匀至香格里拉高速公路守望（滇黔界）至红山（滇川界）段-都香高速公路守望至红山段JD二级及二级以上项目经理部 | E22: 二级及二级以上
A23: =MAX($A$3:A22)+1 -> 14 | B23: 河北广通路桥集团有限公司 | C23: =_xlfn.XLOOKUP(B23,Sheet5!$A:$A,Sheet5!$B:$B,0,0,1) -> 911304006012285379 | D23: 芒市至梁河高速公路-河北广通路桥集团有限公司芒梁高速公路二合同段项目经理部 | E23: 二级及二级以上
A24: =MAX($A$3:A23)+1 -> 15 | B24: 河南省路桥建设集团有限公司 | C24: =_xlfn.XLOOKUP(B24,Sheet5!$A:$A,Sheet5!$B:$B,0,0,1) -> 91411400731303232H | D24: 弥勒至楚雄高速公路弥勒至玉溪段-G8012弥勒至楚雄高速公路弥勒至玉溪段工程第三合同段 | E24: 二级及二级以上
D25: 楚雄至大理高速公路扩容工程-施工总承包第二级及二级以上标段联合体成员二级及二级以上 | E25: 二级及二级以上
D26: 西盟县翁嘎科镇通三级公路工程-西盟县翁嘎科镇通三级公路工程 | E26: 其他等级
A27: =MAX($A$3:A26)+1 -> 16 | B27: 黑龙江省华龙建设有限公司 | C27: =_xlfn.XLOOKUP(B27,Sheet5!$A:$A,Sheet5!$B:$B,0,0,1) -> 91230111755331940N | D27: 瑞丽至孟连高速公路-第二总承包部第一项目部（专业分包） | E27: 二级及二级以上
A28: =MAX($A$3:A27)+1 -> 17 | B28: 湖南金沙路桥建设有限公司 | C28: =_xlfn.XLOOKUP(B28,Sheet5!$A:$A,Sheet5!$B:$B,0,0,1) -> 91430121717044350C | D28: 弥勒至楚雄高速公路弥勒至玉溪段-G8012弥勒至楚雄高速公路弥勒至玉溪段工程第二合同段2工区 | E28: 二级及二级以上
A29: =MAX($A$3:A28)+1 -> 18 | B29: 江西有色建设集团有限公司 | C29: =_xlfn.XLOOKUP(B29,Sheet5!$A:$A,Sheet5!$B:$B,0,0,1) -> 91360000158262799N | D29: 永德（链子桥）至耿马（勐简）高速公路-云南建投永勐高速六分部（小团山隧道） | E29: 二级及二级以上
A30: =MAX($A$3:A29)+1 -> 19 | B30: 江西中煤建设集团有限公司 | C30: =_xlfn.XLOOKUP(B30,Sheet5!$A:$A,Sheet5!$B:$B,0,0,1) -> 91360000727776803R | D30: 河口县槟榔寨至火车北站一级公路（二期）工程-河口县槟榔寨至火车北站一级公路（二期）工程 | E30: 二级及二级以上
D31: 文山市2021年乡镇通三级公路工程（文山至平坝）项目-全标段 | E31: 其他等级
D32: 文山市（第一批）自然村公路建设项目-一标段 | E32: 其他等级
A33: =MAX($A$3:A32)+1 -> 20 | B33: 宁蒗鑫隆建筑有限公司 | C33: =_xlfn.XLOOKUP(B33,Sheet5!$A:$A,Sheet5!$B:$B,0,0,1) -> 915307246886750123 | D33: 云龙县漕涧镇鹿山村白沙井、下水井、老寿山、硝水塘片区自然村硬化路项目(二合同段)-云龙县漕涧镇鹿山村白沙井、下水井、老寿山、硝水塘片区自然村硬化路项目(二合同段) | E33: 二级及二级以上
D34: 云龙县漕涧镇鹿山村白沙井、下水井、老寿山、硝水塘片区自然村硬化路项目(二合同段)-云龙县漕涧镇鹿山村白沙井、下水井、老寿山、硝水塘片区自然村硬化路项目(二合同段) | E34: 其他等级
D35: 宁蒗县紫玛街道办事处羊窝子村委会三岔河村路面硬化工程-宁蒗县紫玛街道办事处羊窝子村委会三岔河村路面硬化工程 | E35: 其他等级
A36: =MAX($A$3:A35)+1 -> 21 | B36: 山东高速工程建设集团有限公司 | C36: =_xlfn.XLOOKUP(B36,Sheet5!$A:$A,Sheet5!$B:$B,0,0,1) -> 913700007535434561 | D36: 楚雄至大理高速公路扩容工程-施工总承包第二级及二级以上标段联合体成员1 | E36: 二级及二级以上
D37: 临翔区南美乡通三级公路Ⅰ期工程（林勐线）-临翔区南美乡通三级公路Ⅰ期工程（林勐线） | E37: 其他等级
A38: =MAX($A$3:A37)+1 -> 22 | B38: 四川公路桥梁建设集团有限公司 | C38: =_xlfn.XLOOKUP(B38,Sheet5!$A:$A,Sheet5!$B:$B,0,0,1) -> 9151000020181190XN | D38: 元阳至绿春高速公路-土建第九分部 | E38: 二级及二级以上
A39: =MAX($A$3:A38)+1 -> 23 | B39: 文山州路桥有限责任公司 | C39: =_xlfn.XLOOKUP(B39,Sheet5!$A:$A,Sheet5!$B:$B,0,0,1) -> 91532600709894144X | D39: 国道G248线马关都龙至茅坪至金厂水头公路改造工程-国道G248线马关都龙至茅坪至金厂水头公路改造工程设计施工（EPC）总承包 | E39: 二级及二级以上
D40: 楚雄市东南绕城高速公路项目-1标段 | E40: 二级及二级以上
D41: 弥勒至楚雄高速公路弥勒至玉溪段-G8012弥勒至楚雄高速公路弥勒至玉溪段工程第一合同段1分部 | E41: 二级及二级以上
D42: 永德（链子桥）至耿马（勐简）高速公路-云南建投永勐高速三分部（忙海河特大桥、大山互通） | E42: 二级及二级以上
D43: 云南省高速公路网广南(那洒)至西畴（兴街）高速公路-广南（那洒）至西畴（兴街）高速公路十三分部 | E43: 二级及二级以上
D44: 麻栗坡县八布至六河通乡三级公路改造工程-麻栗坡县八布至六河通乡三级公路改造工程 | E44: 其他等级
D45: 富宁县2023年乡镇通三级公路剥隘至那能（剥隘至那瓜段）建设项目设计施工总承包(EPC)-剥隘至那瓜段 | E45: 其他等级
D46: 屏边至麻栗坡（大坪至麻栗坡段）通乡三级公路改造工程-一合同段 | E46: 其他等级
A47: =MAX($A$3:A46)+1 -> 24 | B47: 新疆北新路桥集团股份有限公司 | C47: =_xlfn.XLOOKUP(B47,Sheet5!$A:$A,Sheet5!$B:$B,0,0,1) -> 916500009287328820 | D47: 云南长水机场至双龙高速公路工程-云南长水机场至双龙高速公路工程 | E47: 二级及二级以上
A48: =MAX($A$3:A47)+1 -> 25 | B48: 云南建投中航建设有限公司 | C48: =_xlfn.XLOOKUP(B48,Sheet5!$A:$A,Sheet5!$B:$B,0,0,1) -> 9153000021658624XY | D48: 楚雄市东南绕城高速公路项目-2标段 | E48: 二级及二级以上
D49: S219大朝山东镇黑蛇村至大朝山电站公路-S219大朝山东镇黑蛇村至大朝山电站公路 | E49: 其他等级
D50: 锦屏黄草岭至班崴农村公路工程-锦屏黄草岭至班崴农村公路工程 | E50: 其他等级
D51: S219景东县文井镇清凉至大朝东镇黑蛇村公路-S219景东县文井镇清凉至大朝东镇黑蛇村公路 | E51: 其他等级
A52: =MAX($A$3:A51)+1 -> 26 | B52: 云南交发公路工程有限公司 | C52: =_xlfn.XLOOKUP(B52,Sheet5!$A:$A,Sheet5!$B:$B,0,0,1) -> 91530112MA6N0LAD6D | D52: 国道G219线云南龙陵（黄草坝）至龙镇桥段改扩建工程-国道G219龙陵（黄草坝）至龙镇桥段工程土建施工SGD标段 | E52: 二级及二级以上
D53: 国道G219线云南泸水至腾冲段改扩建工程-G219线云南泸水至腾冲段改扩建工程SG-1 | E53: 二级及二级以上
D54: 国高网G7611都匀至香格里拉高速公路宁蒗至香格里拉段-进场道路暨香格里拉市洛吉乡、丽江市宁蒗县拉伯乡（基布谷至三江口公路）和红桥镇、翠玉乡（泸沽湖机场至光明村公路）农村道路工程 | E54: 二级及二级以上
A55: =MAX($A$3:A54)+1 -> 27 | B55: 云南交投集团公路建设有限公司 | C55: =_xlfn.XLOOKUP(B55,Sheet5!$A:$A,Sheet5!$B:$B,0,0,1) -> 915300007951713040 | D55: 大保高速老营至板桥段改线工程-第一施工总承包段 | E55: 二级及二级以上
D56: 牟定至元谋高速公路建设项目-云南交投集团公路建设有限公司牟元高速公路第一施工总承包部 | E56: 二级及二级以上
D57: 国高网G8512景洪至打洛高速公路勐海县城至打洛段-勐海至打洛高速公路第二合同段 | E57: 二级及二级以上
D58: 师宗至丘北（文山段）高速公路建设项目-省道S11师宗至丘北（文山段）高速公路 | E58: 二级及二级以上
D59: 牟定至元谋高速公路建设项目-云南交投集团公路建设有限公司牟元高速公路第四施工总承包部 | E59: 二级及二级以上
D60: 姚安至南华高速公路建设项目-云南交投集团公路建设有限公司姚南高速公路第一施工总承包部 | E60: 二级及二级以上
D61: 国道G219线云南龙陵（黄草坝）至龙镇桥段改扩建工程-国道G219龙陵（黄草坝）至龙镇桥段工程土建施工SGB标段 | E61: 二级及二级以上
D62: 墨江县碧溪至双龙段高速公路-施工图设计及土建、路面和沿线建筑设施施工总承 | E62: 二级及二级以上
D63: 孟连至勐海高速公路（普洱段）-云南交投集团公路建设有限公司孟连至勐海高速公路一标段项目部 | E63: 二级及二级以上
D64: 临沧临翔至清水河高速公路-第二级及二级以上合同段 | E64: 二级及二级以上
A65: 27 | B65: 云南交投集团公路建设有限公司 | C65: =_xlfn.XLOOKUP(B55,Sheet5!$A:$A,Sheet5!$B:$B,0,0,1) -> 915300007951713040 | D65: 瑞丽至孟连高速公路-第三总承包部 | E65: 二级及二级以上
D66: 勐醒至江城至绿春高速公路-勐绿高速公路第1项目经理部 | E66: 二级及二级以上
D67: 省道S209线香格里拉虎跳峡至军马场公路-省道S209线香格里拉虎跳峡至军马场公路施工总承包 | E67: 二级及二级以上
D68: 宾川至南涧高速公路-云南宾川至南涧高速公路第一施工总承包部 | E68: 二级及二级以上
D69: 国高网G8512景洪至打洛高速公路勐海县城至打洛段-勐海至打洛高速公路第一合同段 | E69: 二级及二级以上
D70: 永平至昌宁高速公路（大理段）-总承包第2标段 | E70: 二级及二级以上
D71: 勐远至关累口岸高速公路-云南交投集团公路建设有限公司勐关高速公路第1项目经理部 | E71: 二级及二级以上
D72: 国高网G85银昆高速寻甸（功山）至嵩明（小铺）段改扩建工程-国高网G85银昆高速寻甸（功山）至嵩明（小铺）段改扩建工程第三总承包部 | E72: 二级及二级以上
D73: 姚安至南华高速公路建设项目-云南交投集团公路建设有限公司姚南高速公路第一施工总承包部-质 | E73: 二级及二级以上
D74: 国道G219线云南龙陵（黄草坝）至龙镇桥段改扩建工程-国道G219龙陵（黄草坝）至龙镇桥段工程土建施工SGB标段-质 | E74: 二级及二级以上
D75: 临沧临翔至清水河高速公路-第二级及二级以上合同段-质 | E75: 二级及二级以上
D76: 瑞丽至孟连高速公路-第三总承包部-质 | E76: 二级及二级以上
D77: 勐醒至江城至绿春高速公路-勐绿高速公路第1项目经理部-质 | E77: 二级及二级以上
... D79: 怒江美丽公路绿道建设工程-LDTJ1 | E79: 其他等级
A80: =MAX($A$3:A79)+1 -> 28 | B80: 云南交投集团云岭建设有限公司 | C80: =_xlfn.XLOOKUP(B80,Sheet5!$A:$A,Sheet5!$B:$B,0,0,1) -> 91530100795171224H | D80: 姚安至南华高速公路建设项目-云南交投集团云岭建设有限公司姚南高速公路第四施工总承包部 | E80: 二级及二级以上
D81: 牟定至元谋高速公路建设项目-云南交投集团云岭建设有限公司牟元高速公路第三施工总承包部 | E81: 二级及二级以上
D82: 会泽至巧家高速公路-第一施工总承包 | E82: 二级及二级以上
D83: 孟连至勐海高速公路建设项目-云南交投集团云岭建设有限公司孟连至勐海高速公路二标段项目部 | E83: 二级及二级以上
D84: 牟定至元谋高速公路建设项目-云南交投集团云岭建设有限公司牟元高速公路第二施工总承包部 | E84: 二级及二级以上
D85: 临翔至双江高速公路-LSTJ-1 | E85: 二级及二级以上
D86: 临沧临翔至清水河高速公路-第1合同段 | E86: 二级及二级以上
D87: 瑞丽至孟连高速公路-第四总承包部 | E87: 二级及二级以上
D88: 勐醒至江城至绿春高速公路-勐绿高速公路第2项目经理部 | E88: 二级及二级以上
D89: 楚雄至大理高速公路扩容工程-施工总承包第二级及二级以上标段 | E89: 二级及二级以上
D90: 国高网G8512景洪至打洛高速公路勐海县城至打洛段-勐海至打洛高速公路第三合同段 | E90: 二级及二级以上
D91: 永平至昌宁高速公路（大理段）-总承包第1标段 | E91: 二级及二级以上
D92: 永平至昌宁高速公路（大理段）-总承包第二级及二级以上标段 | E92: 二级及二级以上
... D96: 临沧临翔至清水河高速公路-第1合同段-质 | E96: 二级及二级以上
A97: 28 | B97: 云南交投集团云岭建设有限公司 | C97: =_xlfn.XLOOKUP(B80,Sheet5!$A:$A,Sheet5!$B:$B,0,0,1) -> 91530100795171224H | D97: 瑞丽至孟连高速公路-第四总承包部-质 | E97: 二级及二级以上
D98: 勐醒至江城至绿春高速公路-勐绿高速公路第2项目经理部-质 | E98: 二级及二级以上
D99: 国高网G85银昆高速寻甸（功山）至嵩明（小铺）段改扩建工程-国高网G85银昆高速寻甸（功山）至嵩明（小铺）段改扩建工程第一总承包部-质 | E99: 二级及二级以上
D100: 国高网G85银昆高速寻甸（功山）至嵩明（小铺）段改扩建工程-国高网G85银昆高速寻甸（功山）至嵩明（小铺）段改扩建工程第二总承包部-质 | E100: 二级及二级以上
D101: 怒江美丽公路绿道建设工程-LDTJ2 | E101: 其他等级
A102: =MAX($A$3:A101)+1 -> 29 | B102: 云南交投生态环境工程有限公司 | C102: =_xlfn.XLOOKUP(B102,Sheet5!$A:$A,Sheet5!$B:$B,0,0,1) -> 91530000336483851J | D102: 云县至临沧高速公路-云临高速公路六合同段总承包部 | E102: 二级及二级以上
D103: 临沧临翔至清水河高速公路-LQSGZCB-二级及二级以上 | E103: 二级及二级以上
D104: 瑞丽至孟连高速公路-绿化及环保设施工程总承包部 | E104: 二级及二级以上
...

Sheet Sheet5
A1: 云南华腾建筑工程有限公司 | B1: 91530300688557869W
A2: 贵州省公路工程集团有限公司 | B2: 91520000214415201K
A3: 普洱市宏祥路桥工程有限责任公司 | B3: 9153080073432547XC
A4: 云南省交通科学研究所 | B4: 91530000431200928E
A5: 宏盛建业投资集团有限公司 | B5: 913611221615315079
A6: 云南建投第二建设有限公司 | B6: 91530000216521307R
A7: 中交二公局第四工程有限公司
A8: 云南盛业建筑工程有限公司 | B8: 915303810569629896
A9: 云南宜辰建设工程有限公司 | B9: 91530100579844578J
A10: 云南省水利水电工程有限公司 | B10: 91530000291995289H
A11: 云南新佳宇建设工程有限公司 | B11: 915329310569888556
A12: 中铁二十四局集团有限公司 | B12: 913100001322024481
A13: 中咨泰克交通工程集团有限公司 | B13: 911101081020942049
A14: 中铁二十三局集团有限公司 | B14: 91510100740338242L
A15: 云南九和建设集团有限公司 | B15: 9153000059931550XE
A16: 怒江卓远建设工程有限责任公司 | B16: 91533321054690553N
A17: 云南桓业建筑工程有限责任公司 | B17: 9153010055012565X1
A18: 云南鹏俊建设工程有限公司 | B18: 915301026956914841
A19: 河北广通路桥集团有限公司 | B19: 911304006012285379
... A42: 云南九林建设工程有限公司 | B42: 91530103MA6KTM2E19
A43: 中铁五局集团有限公司
A44: 中交二公局第四工程有限公司 | B44: 914103001710809493
A45: 云南联悦建筑工程有限公司 | B45: 91530103MA6N85G329
A46: 云南地投建设工程有限公司 | B46: 91530521MA6MX5AD15
A47: 云南昊迪建筑工程有限公司 | B47: 91530103MA6L0R9F05
A48: 云南源州建设工程有限公司 | B48: 91530103MA6PC9DL5H
A49: 香格里拉市弘源建筑工程有限公司 | B49: 91533401MA6PQ4YJ5G
A50: 江西中煤建设集团有限公司 | B50: 91360000727776803R
A51: 瑞丽市富康路桥工程有限公司 | B51: 915331027785726400
A52: 中铁十一局集团有限公司 | B52: 91420000179315087R
A53: 中铁五局集团有限公司 | B53: 91520000214400165L
A54: 云南云岭高速公路交通科技有限公司 | B54: 91530111795171275P
A55: 泸西县公路桥梁工程有限责任公司 | B55: 915325277194894178
... A156: 云南滇富建设工程有限公司 | B156: 915300000804173826
A157: 云南公泰工程建设集团有限公司
A158: 云南昱高公路工程有限公司 | B158: 91530102316228378C
A159: 云南泓源工程管理有限公司 | B159: 915301007873695723
A160: 上海明凯市政工程有限责任公司 | B160: 91310107630720686Y
A161: 云南兴平云建筑工程有限责任公司 | B161: 91530524MA6K7NNW5U
A162: 吉安市交通工程建设有限公司 | B162: 91360800736394532L
A163: 元谋新兴建设有限责任公司 | B163: 91532328734308979J
A164: 曲靖市博恒建筑工程有限公司 | B164: 915303005798209989
A165: 中国有色金属工业第六冶金建设有限公司 | B165: 9141000016995634XA
A166: 云南正润建设工程有限公司 | B166: 91530000MA6KGGT95N
A167: 云南虹景建筑工程有限公司 | B167: 91530102329206805Y
A168: 云南天稷建筑工程有限公司 | B168: 91532331MA6K77QY7M
A169: 中交二航局第二工程有限公司 | B169: 91500000778492034J
... A203: 重庆川东路桥工程有限公司 | B203: 915001012080591087
A204: 江西中煤建设集团有限公司
A205: 丽江润鑫建设工程有限公司 | B205: 91530702MA6NN7TM8J
A206: 昆明恒华路桥工程有限公司
A207: 中国十九冶集团有限公司 | B207: 91510400204350723Y
A208: 中国电建集团重庆工程有限公司 | B208: 91500108202801156A
A209: 中铁上海工程局集团有限公司 | B209: G1031010811623890E
A210: 云南昊兴建设工程有限公司 | B210: 91530103MA6N94U691
A211: 中国建筑第六工程局有限公司 | B211: 911201161030636028
A212: 德宏州亿宁公路工程有限公司 | B212: 91533100MA6KG2X090
A213: 云南坦途建设工程有限公司 | B213: 915301123231149180
A214: 云南龙超建设工程有限公司 | B214: 91530502MA6K8CHR1K
A215: 云南汉亚建设工程有限公司 | B215: 915301123518502186
A216: 嘉印建设有限公司 | B216: 91530000399226991D
A217: 云南中城宏伟建筑工程有限公司 | B217: 91530102MA6Q6RKR65
A218: 广西交建工程建设集团有限公司 | B218: 91450000742076899B
A219: 中国水利水电第十四工程局有限公司
A220: 山东省昆仑路桥工程有限公司 | B220: 91371083706230828H
A221: 云南建投怒江建设有限公司 | B221: 91533300MA7BN2G88M
A222: 云南鸿民建设工程有限公司 | B222: 91533103MA6MXLXN3B
A223: 中坚隧道工程(广东)有限公司 | B223: 91440101MA5D5GRJ6K
A224: 云南坤瑞建设工程有限公司 | B224: 91533122MA6KUMJ6X0
A225: 安徽先河建筑工程有限公司 | B225: 91340100598666690Y
A226: 德通建设集团有限公司 | B226: 91610800786964863X
A227: 云南神川建设工程有限公司 | B227: 91533421MA6NJMD8XH
A228: 河南省明大工程建设有限公司 | B228: 91410900558332493C
A229: 云南志祥弘建筑工程有限公司 | B229: 915306005688160025
A230: 黑龙江省华龙建设有限公司 | B230: 91230111755331940N
A231: 云南云雄建设工程有限公司 | B231: 91532901750675058Q
... A240: 文山州路桥有限责任公司 | B240: 91532600709894144X
A241: 云南民达建筑工程有限公司
A242: 中国铁建大桥工程局集团有限公司 | B242: 91120116244997951G
A243: 中铁隧道股份有限公司 | B243: 9141000017292850XF
A244: 中铁三局集团有限公司 | B244: 91140000110104513E
A245: 云南昊为建设集团有限公司 | B245: 91530000064266422L
A246: 中铁七局集团有限公司 | B246: 914100001700716022
A247: 云南公泰工程建设集团有限公司 | B247: 91530000719404831M
A248: 云南宁顺建筑工程有限责任公司 | B248: 91530524MA6K8JRF6D
A249: 云南上节建设工程有限公司 | B249: 91530100MA6KGU136A
A250: 重庆川东路桥工程有限公司 | B250: 951001012080591087
A251: 昆明勤信工程技术有限公司 | B251: 91530100MA6KAGUJ0W
A252: 云南可乐建筑工程有限公司 | B252: 91530102MA6K851BXR
A253: 中信建设有限责任公司 | B253: 91110000710930579X
... A318: 云南七和建设工程有限公司 | B318: 91530102MA6NY4JH51
A319: 中国一冶集团有限公司
A320: 云南照耀建设工程有限公司 | B320: 91530100MA6KNWW10L
A321: 云南樽弘建设工程有限公司 | B321: 91530602MA6PCQ1C1G
A322: 云南联熹建设工程有限公司 | B322: 91530000MA6K82FC9L
A323: 昌宁县隆鑫源建筑工程有限责任公司 | B323: 91530524MA6K6Q333N
A324: 四川思孚建设工程有限公司 | B324: 91510104MA65WEQ431
A325: 云南熙盛建设工程有限公司 | B325: 91530111MA6MY3EHXU
A326: 中铁二局第一工程有限公司 | B326: 915200007309791774
A327: 四川公路桥梁建设集团有限公司
...
